BEGIN:VCALENDAR
VERSION:2.0
PRODID:-//ZKUUBBŽ - ECPv5.7.0//NONSGML v1.0//EN
CALSCALE:GREGORIAN
METHOD:PUBLISH
X-WR-CALNAME:ZKUUBBŽ
X-ORIGINAL-URL:https://zkuubbz.hr
X-WR-CALDESC:Događaji za ZKUUBBŽ
BEGIN:VTIMEZONE
TZID:Europe/Paris
BEGIN:DAYLIGHT
TZOFFSETFROM:+0100
TZOFFSETTO:+0200
TZNAME:CEST
DTSTART:20210328T010000
END:DAYLIGHT
BEGIN:STANDARD
TZOFFSETFROM:+0200
TZOFFSETTO:+0100
TZNAME:CET
DTSTART:20211031T010000
END:STANDARD
END:VTIMEZONE
BEGIN:VEVENT
DTSTART;VALUE=DATE:20211001
DTEND;VALUE=DATE:20211004
DTSTAMP:20260425T171406
CREATED:20210915T075311Z
LAST-MODIFIED:20210915T075726Z
UID:3133-1633046400-1633305599@zkuubbz.hr
SUMMARY:Seminar folklora Bilogore\, Bijele Moslavine i zap. Slavonije
DESCRIPTION:Poštovani prijatelji\, ljubitelji i štovatelji hrvatske tradicije! \nPozivamo Vas na vikend seminar u organizaciji Gareš’kog kulturnog centra-Garešnica\, a pod pokroviteljstvom Bjelovarsko-bilogorske županije. \nSeminar će se odvijati kroz 3 dana na tri kolegija:\n1. Vokalne tehnike i tradicijsko pjevanje\n2. Tradicijska glazbala\, tambure i tambure samice\n3. Plesna radionica- folklor za djecu i odrasle \nProgram: \n01. 10. 2021.\n➢ dolazak u 17\,45\n➢ Vokalna radionica- vokalne tehnike; pjevanje: 18\,00-21\,00\n➢ Glazbena radionica/tambure\, rad s orkestrom\, tradicijska glazbala: 18\,00-21\,00 \n02.10.2021.\n➢ Plesna radionica- dječji folklor:10\,00- 12\,30\n➢ Glazbena radionica: 10\,00- 12\,30; 13\,30- 18\,00\n➢ Plesna radionica – folklor: 13\,30- 17\,00\n➢ Vokalna radionica: pjevanje: 17\,15- 20\,15 \n03.10.2021.\n➢ Glazbala- 10\,00-13\,00\n➢ Folklor- 10\,00-13\,00 \nPredavači na Seminaru su Filip i Vjekoslav Martinić te Romana Fezi Martinić.\nZbog epidemiološke situacije te ograničenog broja polaznika molimo zainteresirane da prijave se najkasnije do 25. rujna 2021. na romanafm@gmail.com. \nSve informacije na 098/1685032\nNakon izvršene prijave kontaktirat ćemo vas za daljnje upute. \nPRIJAVNI LIST možete preuzeti OVDJE.
URL:https://zkuubbz.hr/najava/seminar-folklora-bilogore-bijele-moslavine-i-zap-slavonije/
LOCATION:Garešnica
CATEGORIES:folklor
END:VEVENT
END:VCALENDAR