BEGIN:VCALENDAR
VERSION:2.0
PRODID:-//ZKUUBBŽ - ECPv5.7.0//NONSGML v1.0//EN
CALSCALE:GREGORIAN
METHOD:PUBLISH
X-WR-CALNAME:ZKUUBBŽ
X-ORIGINAL-URL:https://zkuubbz.hr
X-WR-CALDESC:Događaji za ZKUUBBŽ
BEGIN:VTIMEZONE
TZID:Europe/Paris
BEGIN:DAYLIGHT
TZOFFSETFROM:+0100
TZOFFSETTO:+0200
TZNAME:CEST
DTSTART:20200329T010000
END:DAYLIGHT
BEGIN:STANDARD
TZOFFSETFROM:+0200
TZOFFSETTO:+0100
TZNAME:CET
DTSTART:20201025T010000
END:STANDARD
END:VTIMEZONE
BEGIN:VEVENT
DTSTART;VALUE=DATE:20200516
DTEND;VALUE=DATE:20200524
DTSTAMP:20260426T011131
CREATED:20200509T081216Z
LAST-MODIFIED:20200509T081654Z
UID:2631-1589587200-1590278399@zkuubbz.hr
SUMMARY:Poziv na online seminar za ples "Kako slušam ples?"
DESCRIPTION:Nakon održane likovne online radionice i online folklornog seminara nastavljamo online plesnim seminarom „Kako slušam ples?“. Online seminar je namijenjen voditeljima plesnih skupina\, plesnim pedagozima\, koreografima i plesačima. Prijave su otvorene za sve zainteresirane. \nRealizacija online seminara „Kako slušam ples?“ podijeljena je u 2 dijela tj. online seminar se\nodvija tijekom 2 dana\, dvije subote (16. 5. 2020. i 23. 5. 2020). \nUključuje teorijski i praktični dio kroz koje će sudionike voditi plesna umjetnica Martina\nTomić i moderatorica online seminara Valentina Dačnik\, stručna suradnica HSK-a. \nSudionici online seminar prate uživo putem ZOOM aplikacije\, a u skladu s trenutnom\nsituacijom i pandemijom koronavirusa\, plesna umjetnica Martina Tomić prilagodila je\nistraživačku praksu slušanja\, koja se trebala graditi kolektivnom atmosferom na radionici u\nZadru\, u/za virtualni svijet. Radionica „Kako slušam ples?” smješta se u stvarnost\, u osobni\nprostor\, u nemogućnost korištenja dvorane i/ili međusobnog kontakta pritom stavljajući\nfokus na unutarnja saznanja i interpretacije istih. \nZa prijavu je potrebno najkasnije do 14. svibnja 2020. ispuniti prijavni obrazac – „meeting\nregistration“ klikom . \nZa sve članice Hrvatskog sabora kulture koje su podmirile članarinu\, sudjelovanje na radionici je\nBESPLATNO. Za nečlanove kotizacija za sudjelovanje iznosi 250\,00 kn. \nU nastavku pročitajte plan i način realizacije online seminara te pronađite upute za sudjelovanje i prijavu: \nPoziv na online seminar za ples Kako slušam ples \n 
URL:https://zkuubbz.hr/najava/poziv-na-online-seminar-za-ples-kako-slusam-ples/
CATEGORIES:online seminar
END:VEVENT
END:VCALENDAR