BEGIN:VCALENDAR
VERSION:2.0
PRODID:-//ZKUUBBŽ - ECPv5.7.0//NONSGML v1.0//EN
CALSCALE:GREGORIAN
METHOD:PUBLISH
X-WR-CALNAME:ZKUUBBŽ
X-ORIGINAL-URL:https://zkuubbz.hr
X-WR-CALDESC:Događaji za ZKUUBBŽ
BEGIN:VTIMEZONE
TZID:Europe/Paris
BEGIN:DAYLIGHT
TZOFFSETFROM:+0100
TZOFFSETTO:+0200
TZNAME:CEST
DTSTART:20200329T010000
END:DAYLIGHT
BEGIN:STANDARD
TZOFFSETFROM:+0200
TZOFFSETTO:+0100
TZNAME:CET
DTSTART:20201025T010000
END:STANDARD
END:VTIMEZONE
BEGIN:VEVENT
DTSTART;VALUE=DATE:20200424
DTEND;VALUE=DATE:20200427
DTSTAMP:20260426T022425
CREATED:20200422T122221Z
LAST-MODIFIED:20200509T082708Z
UID:2614-1587686400-1587945599@zkuubbz.hr
SUMMARY:Otvorene prijave za online likovnu radionicu "Slikamo akvarelom"
DESCRIPTION:Online radionica bit će realizirana putem ZOOM aplikacije (ZOOM webinar). Na radionicu se mogu prijaviti svi zainteresirani likovni stvaratelji. \nRealizacija online radionice „Slikamo akvarelom“ podijeljena je u 3 dijela tj. radionica se odvija tijekom 3 dana. Uključuje teorijski i praktični dio kroz koje će sudionike voditi akademska slikarica Olena Sokolovska i moderatorica webinara Martina Brumen\, stručna suradnica HSK-a. \nZa prijavu je potrebno ispuniti prijavni obrazac – „webinar registration“ klikom na POVEZNICU. \nZa sve fizičke osobe koje su u članstvu Hrvatskog sabora kulture te one koji dolaze iz likovnih udruga/sekcija – članica Hrvatskog sabora kulture koje su podmirile članarinu\, sudjelovanje na radionici je BESPLATNO. Za nečlanove (fizičke osobe koje nisu u članstvu HSK-a i članove udruga koje nisu u članstvu HSK-a) kotizacija za sudjelovanje iznosi 250\,00 kn. \nPrivitci: \nPoziv na online likovnu radionicu-04-2020
URL:https://zkuubbz.hr/najava/otvorene-prijave-za-online-likovnu-radionicu-slikamo-akvarelom/
CATEGORIES:likovna umjetnost
END:VEVENT
END:VCALENDAR