BEGIN:VCALENDAR
VERSION:2.0
PRODID:-//ZKUUBBŽ - ECPv5.7.0//NONSGML v1.0//EN
CALSCALE:GREGORIAN
METHOD:PUBLISH
X-WR-CALNAME:ZKUUBBŽ
X-ORIGINAL-URL:https://zkuubbz.hr
X-WR-CALDESC:Događaji za ZKUUBBŽ
BEGIN:VTIMEZONE
TZID:Europe/Paris
BEGIN:DAYLIGHT
TZOFFSETFROM:+0100
TZOFFSETTO:+0200
TZNAME:CEST
DTSTART:20210328T010000
END:DAYLIGHT
BEGIN:STANDARD
TZOFFSETFROM:+0200
TZOFFSETTO:+0100
TZNAME:CET
DTSTART:20211031T010000
END:STANDARD
END:VTIMEZONE
BEGIN:VEVENT
DTSTART;VALUE=DATE:20211120
DTEND;VALUE=DATE:20211122
DTSTAMP:20260425T194108
CREATED:20210623T123802Z
LAST-MODIFIED:20210623T124102Z
UID:3011-1637366400-1637539199@zkuubbz.hr
SUMMARY:32. Susret hrvatskih plesnih ansambala
DESCRIPTION:Selekcija do: 15.10.2021. putem Natječaja \nNatječaj za 32. Susret hrvatskih plesnih ansambala je u tijeku i na njega se mogu javiti svi zainteresirani ansambli (). Pravo sudjelovanja na Susretu stječu ansambli\, članice HSK-a\, odabrani od strane Povjerenstva za provedbu natječaja i odabir programa Susreta. \nPrijave se primaju zaključno s 15.10.2021.\, a uključuju ispunjenu prijavnicu\, biografiju skupine\, fotografiju i poveznicu za pregled prijavljenih koreografija. Kvaliteta snimke treba zadovoljavati minimum estetske vrijednosti koja joj omogućuje javno prikazivanje u slučaju realizacije Susreta online. \nHSK zadržava pravo izmjene i dopune Programa koji će i ove godine biti revijalnog karaktera.
URL:https://zkuubbz.hr/najava/32-susret-hrvatskih-plesnih-ansambala/
LOCATION:Velika Gorica\, Croatia (Local Name: Hrvatska)
CATEGORIES:plesni ansambl
END:VEVENT
END:VCALENDAR