BEGIN:VCALENDAR
VERSION:2.0
PRODID:-//ZKUUBBŽ - ECPv5.7.0//NONSGML v1.0//EN
CALSCALE:GREGORIAN
METHOD:PUBLISH
X-WR-CALNAME:ZKUUBBŽ
X-ORIGINAL-URL:https://zkuubbz.hr
X-WR-CALDESC:Događaji za ZKUUBBŽ
BEGIN:VTIMEZONE
TZID:Europe/Paris
BEGIN:DAYLIGHT
TZOFFSETFROM:+0100
TZOFFSETTO:+0200
TZNAME:CEST
DTSTART:20210328T010000
END:DAYLIGHT
BEGIN:STANDARD
TZOFFSETFROM:+0200
TZOFFSETTO:+0100
TZNAME:CET
DTSTART:20211031T010000
END:STANDARD
END:VTIMEZONE
BEGIN:VEVENT
DTSTART;VALUE=DATE:20211113
DTEND;VALUE=DATE:20211115
DTSTAMP:20260425T193940
CREATED:20210623T130957Z
LAST-MODIFIED:20210623T130957Z
UID:3027-1636761600-1636934399@zkuubbz.hr
SUMMARY:28. Susret hrvatskih tamburaških orkestara i sastava
DESCRIPTION:Održava se u skladu s postojećim pravilima. \nSelekcija: Sudionici će biti odabrani sa županijskih smotri (ukoliko budu održane)\, a ansambli iz županija u kojima smotre neće biti održane bit će odabrani za Susret na temelju video snimaka prijavljenih programa (dostavljaju se poveznicom). Smotre (uključujući prijavu putem video snimaka) moraju biti realizirane najkasnije do 3. listopada 2021. godine.
URL:https://zkuubbz.hr/najava/28-susret-hrvatskih-tamburaskih-orkestara-i-sastava/
LOCATION:Dugo Selo
CATEGORIES:tamburaški orkestar
END:VEVENT
END:VCALENDAR